BEGIN:VCALENDAR
VERSION:2.0
PRODID:-//TYPO3/NONSGML News system (news)//EN
BEGIN:VEVENT
TZID:Central Europe Standard Time
UID:news-61875@ai.tu-dortmund.de
DTSTAMP:20260326T151804Z

DTSTART:20260416T130000
DTEND:20260416T140000


LOCATION:JvF25/3-303 - Conference Room (Lamarr/RC Trust Dortmund)

DESCRIPTION:https://ai.tu-dortmund.de/eventdetail/bayesian-optimization-at-1000-dimensions-why-it-works-what-breaks-and-whats-next-61875/
SUMMARY:Bayesian Optimization at 1,000 Dimensions: Why It Works, What Breaks, and What’s Next
END:VEVENT
END:VCALENDAR
